BEGIN:VCALENDAR
VERSION:2.0
PRODID:-//hacksw/handcal//NONSGML v1.0//EN
CALSCALE:GREGORIAN
BEGIN:VEVENT
DTEND:20181207T010000Z
UID: 69eadbcc879f4
DTSTAMP:20260423T215612Z
LOCATION:Black Culture House
DESCRIPTION:The Sisterhood of Unique Ladies will host a holiday party\, Oh What Fun!\n
URL;VALUE=URI:https://augustana.edu/about-us/events/2018/oh-what-fun
SUMMARY:Oh What Fun!
DTSTART:20181207T010000Z
END:VEVENT
END:VCALENDAR
