BEGIN:VCALENDAR
VERSION:2.0
PRODID:-//hacksw/handcal//NONSGML v1.0//EN
CALSCALE:GREGORIAN
BEGIN:VEVENT
DTEND:20181208T000000Z
UID: 69ead9b16ab59
DTSTAMP:20260423T214713Z
LOCATION:Olin Center for Educational Technology
DESCRIPTION:Ladies of Vital Essence will host a holiday card making event. Cards will be sent to the neighboring St. Anthony's Nursing and Rehabilitation Center in Rock Island.\n\nHot chocolate and snacks will be provided.\n
URL;VALUE=URI:https://augustana.edu/about-us/events/2018/holiday-card-making
SUMMARY:Holiday card making
DTSTART:20181208T000000Z
END:VEVENT
END:VCALENDAR
