BEGIN:VCALENDAR
VERSION:2.0
PRODID:-//hacksw/handcal//NONSGML v1.0//EN
CALSCALE:GREGORIAN
BEGIN:VEVENT
DTEND:20190201T003000Z
UID: 69e87311c4ab4
DTSTAMP:20260422T020449Z
LOCATION:Olin Center for Educational Technology
DESCRIPTION:The Lectures and Leadership Committee from the Multicultural Programming Board will be hosting another Ted Talk Night. Students and faculty with personal experience regarding Black History Month or faculty members that teach a class that deals with the subject matter are invited to come speak. If you would like to give a talk\,&nbsp\;please reach out to Alivia Phelps.\n\nTalks do not need to be formal speeches and can contain personal stories\, analogies\, or just analysis.\n
URL;VALUE=URI:https://augustana.edu/about-us/events/2019/black-history-month-ted-talk
SUMMARY:Black History Month Ted Talk
DTSTART:20190201T003000Z
END:VEVENT
END:VCALENDAR
