BEGIN:VCALENDAR
VERSION:2.0
PRODID:-//hacksw/handcal//NONSGML v1.0//EN
CALSCALE:GREGORIAN
BEGIN:VEVENT
DTEND:20190112T230000Z
UID: 69ea83d2c7571
DTSTAMP:20260423T154050Z
LOCATION:Wilson Center
DESCRIPTION:The Asian Student Organization invites students to Asian Night\, an event with food\, prizes\, and opportunities to learn about various Asian foods and the cultures that go along with them.\n\nThe event will run from 5-7 p.m.\n\nRSVPs are requested so organizers can plan for seating.\n
URL;VALUE=URI:https://augustana.edu/about-us/events/2019/asian-night
SUMMARY:Asian Night
DTSTART:20190112T230000Z
END:VEVENT
END:VCALENDAR
