BEGIN:VCALENDAR
VERSION:2.0
PRODID:-//hacksw/handcal//NONSGML v1.0//EN
CALSCALE:GREGORIAN
BEGIN:VEVENT
DTEND:20190314T150000Z
UID: 69ea8514bef85
DTSTAMP:20260423T154612Z
LOCATION:The Gerber Center for Student Life
DESCRIPTION:CORE will hold an On-campus Employment Fair from 10-11:30 a.m.&nbsp\;for students looking for on-campus positions for next academic year or next summer.\n\nThe fair will showcase the range of the student employment opportunities that are available. Each employer will have an informational table.\n\nOffices or departments who would like to have a table at the fair should fill out&nbsp\;this form.&nbsp\;Plan to bring any handouts or other material about your office/department or your job opportunities that may be helpful for students\n\nOpen positions should be posted on Handshake before the fair so that students can apply.\n
URL;VALUE=URI:https://augustana.edu/about-us/events/2019/campus-employment-fair
SUMMARY:On-campus Employment Fair
DTSTART:20190314T150000Z
END:VEVENT
END:VCALENDAR
