BEGIN:VCALENDAR
VERSION:2.0
PRODID:-//hacksw/handcal//NONSGML v1.0//EN
CALSCALE:GREGORIAN
BEGIN:VEVENT
DTEND:20190117T160000Z
UID: 69eaf0f3de43f
DTSTAMP:20260423T232627Z
LOCATION:The Gerber Center for Student Life
DESCRIPTION:Augustana's Residence Hall Association will host a&nbsp\;community blood drive through the Mississippi Valley Blood Center. Be sure to have a snack and a drink ahead of time\, and bring a photo ID.\n\nAs thanks\,&nbsp\;you will receive a voucher for a green t-shirt perfect for St. Patrick's Day T-shirt\n\n• Sign up for a time\,&nbsp\;or there will be a sign-up table from 10-11:30 a.m. Jan. 15 in the Brew.\n
URL;VALUE=URI:https://augustana.edu/about-us/events/2019/blood-drive
SUMMARY:Blood drive 
DTSTART:20190117T160000Z
END:VEVENT
END:VCALENDAR
