BEGIN:VCALENDAR
VERSION:2.0
PRODID:-//hacksw/handcal//NONSGML v1.0//EN
CALSCALE:GREGORIAN
BEGIN:VEVENT
DTEND:20190113T030000Z
UID: 69eb338e418e9
DTSTAMP:20260424T041038Z
LOCATION:The Gerber Center for Student Life
DESCRIPTION:After the basketball game\, let's play Neon Bingo.&nbsp\;Wear your brightest colors and come walk away with $500.\n
URL;VALUE=URI:https://augustana.edu/about-us/events/2019/neon-bingo
SUMMARY:Neon Bingo
DTSTART:20190113T030000Z
END:VEVENT
END:VCALENDAR
