BEGIN:VCALENDAR
VERSION:2.0
PRODID:-//hacksw/handcal//NONSGML v1.0//EN
CALSCALE:GREGORIAN
BEGIN:VEVENT
DTEND:20190306T010000Z
UID: 69ecbd318927f
DTSTAMP:20260425T081009Z
LOCATION:Figge Art Museum
DESCRIPTION:Augustana's Dr. Christopher Strunk and Dr. Adam Kaul will moderate a series of films and discussions\, "Becoming American: Our Immigration Experience Past and Present."\n\nThe series is sponsored by the Jewish Federation of the Quad Cities\, the Moline Public Library\, the German American Heritage Center\, the Butterworth Center\, St. Ambrose University and Augustana College.\n\nToday's films will be "The Century of Immigration\," about the 40 million immigrants from 1820-1924 who transformed immigration into a major and defining aspect of American life.\n\nOther series topics:\n\nMarch 12: "Promise and Prejudice\, 5:30-7:30 p.m.\, Moline Public Library\nMarch 19: "Between Two Worlds: Identity and Acculturation\," 5:30-7:30 p.m.\, German American Heritage Center\, Davenport\nMarch 26: "Help Wanted? Immigration and Work\," 7-8:30 p.m.\, Hanson Hall room 102\, Augustana College\nApril 2: "Family and Community\," 3-5 p.m. Butterworth Center\, Moline.\n
URL;VALUE=URI:https://augustana.edu/about-us/events/2019/becoming-american-our-immigration-experience-past-and-present
SUMMARY:Becoming American: Our Immigration Experience Past and Present
DTSTART:20190306T010000Z
END:VEVENT
END:VCALENDAR
