BEGIN:VCALENDAR
VERSION:2.0
PRODID:-//hacksw/handcal//NONSGML v1.0//EN
CALSCALE:GREGORIAN
BEGIN:VEVENT
DTEND:20190209T200000Z
UID: 69e5809b2dad8
DTSTAMP:20260419T202547Z
LOCATION:Denkmann Memorial Building
DESCRIPTION:Bethany Hobart will perform a&nbsp\;&nbsp\;recital on the trombone. She is a senior from Round Lake\, Ill.\, majoring in geology and instrumental music performance.\n
URL;VALUE=URI:https://augustana.edu/about-us/events/2019/bethany-hobart-trombone
SUMMARY:Bethany Hobart\, trombone
DTSTART:20190209T200000Z
END:VEVENT
END:VCALENDAR
