BEGIN:VCALENDAR
VERSION:2.0
PRODID:-//hacksw/handcal//NONSGML v1.0//EN
CALSCALE:GREGORIAN
BEGIN:VEVENT
DTEND:20190122T173000Z
UID: 69e69a8b37fe8
DTSTAMP:20260420T162843Z
LOCATION:Bahls Campus Leadership Center
DESCRIPTION:This brief service offers thoughts from a campus speaker\, music\, scripture reading\, and quiet.\n\nToday's speaker is&nbsp\;Courtney Merkel on "Trusting God's Plans." She is a communication studies major and public health and economics minor.&nbsp\;She is active with Relay for Life\, &nbsp\;Epsilon Sigma Alpha Service and Mortar Board.\n
URL;VALUE=URI:https://augustana.edu/about-us/events/2019/augie-reflections-jan22-2019
SUMMARY:Augie Reflections: Courtney Merkel
DTSTART:20190122T173000Z
END:VEVENT
END:VCALENDAR
