BEGIN:VCALENDAR
VERSION:2.0
PRODID:-//hacksw/handcal//NONSGML v1.0//EN
CALSCALE:GREGORIAN
BEGIN:VEVENT
DTEND:20190207T170000Z
UID: 69e6a4bd286f3
DTSTAMP:20260420T171213Z
LOCATION:The Gerber Center for Student Life
DESCRIPTION:Representatives of Sky Ranch Lutheran Camp of Fort Collins\, Colo.\, will be hosting a publicity table on campus.&nbsp\;They want to hire 45-50 staff who will come and facilitate an Encounter with Christ for children and youth in grades 1-12&nbsp\;during their week of camp.\n
URL;VALUE=URI:https://augustana.edu/about-us/events/2019/sky-ranch-lutheran-camp-publicity-table
SUMMARY:Sky Ranch Lutheran Camp publicity table
DTSTART:20190207T170000Z
END:VEVENT
END:VCALENDAR
