BEGIN:VCALENDAR
VERSION:2.0
PRODID:-//hacksw/handcal//NONSGML v1.0//EN
CALSCALE:GREGORIAN
BEGIN:VEVENT
DTEND:20190202T003000Z
UID: 69e758f9c5c3c
DTSTAMP:20260421T060113Z
LOCATION:The Gerber Center for Student Life
DESCRIPTION:This annual event is designed to celebrate the diversity of international and cultural backgrounds in the Augustana community.&nbsp\;Augustana has&nbsp\;international students from more than 40 countries. There will be an international dinner provided in the Dining Hall and a fashion show.\n
URL;VALUE=URI:https://augustana.edu/about-us/events/2019/international-street-fest
SUMMARY:International Street Fest
DTSTART:20190202T003000Z
END:VEVENT
END:VCALENDAR
