BEGIN:VCALENDAR
VERSION:2.0
PRODID:-//hacksw/handcal//NONSGML v1.0//EN
CALSCALE:GREGORIAN
BEGIN:VEVENT
DTEND:20190205T181529Z
UID: 69e579aaf01a8
DTSTAMP:20260419T195610Z
LOCATION:Carlsson Evald Hall
DESCRIPTION:The Golden Apple Teaching Scholarship is a program that provides significant tuition assistance and paid summer classes for education majors who live in Illinois. It is open to current freshman and sophomores.\n\nFor those interested in this program\, the Golden Apple Scholars at Augustana will host a Q&amp\;A\, chat with current scholars\, and share pizza!&nbsp\;\n\nGolden Apple students get extra time in the classroom and support beyond graduation from former teachers. Golden Apple focuses on preparing teachers for success in schools of high need and all scholars commit to teaching five years in a Illinois school of need.\n\nThose interested should RSVP to Jenna Doland.\n
URL;VALUE=URI:https://augustana.edu/about-us/events/2019/golden-apple-scholars-augustana-qa
SUMMARY:Golden Apple Scholars at Augustana Q&A 
DTSTART:20190205T181529Z
END:VEVENT
END:VCALENDAR
