BEGIN:VCALENDAR
VERSION:2.0
PRODID:-//hacksw/handcal//NONSGML v1.0//EN
CALSCALE:GREGORIAN
BEGIN:VEVENT
DTEND:20190201T170000Z
UID: 69ea9dcbcf00f
DTSTAMP:20260423T173139Z
LOCATION:The Gerber Center for Student Life
DESCRIPTION:Representatives from the&nbsp\;Quad City Botanical Center will be on hand to talk with students from 11 a.m.-1 p.m.\n&nbsp\;\n&nbsp\;\n
URL;VALUE=URI:https://augustana.edu/about-us/events/2019/employer-site-quad-city-botanical-center
SUMMARY:Employer On Site: Quad City Botanical Center
DTSTART:20190201T170000Z
END:VEVENT
END:VCALENDAR
