BEGIN:VCALENDAR
VERSION:2.0
PRODID:-//hacksw/handcal//NONSGML v1.0//EN
CALSCALE:GREGORIAN
BEGIN:VEVENT
DTEND:20190409T163000Z
UID: 69e69a9ab9daa
DTSTAMP:20260420T162858Z
LOCATION:Bahls Campus Leadership Center
DESCRIPTION:This brief service offers thoughts from a campus speaker\, music\, scripture reading\, and quiet.\n\nToday's speaker is&nbsp\;&nbsp\;Jessica Lechtenberg '19&nbsp\;with "Visible Support." She is a sociology and public health&nbsp\;major.&nbsp\;She is active with cross country\, track and field\, and the Heywire improv troupe. Lechtenberg is a peer tutor in the Reading/Writing Center.\n
URL;VALUE=URI:https://augustana.edu/about-us/events/2019/augie-reflections-lechtenberg
SUMMARY:Augie Reflections: Jessica Lechtenberg '19
DTSTART:20190409T163000Z
END:VEVENT
END:VCALENDAR
