BEGIN:VCALENDAR
VERSION:2.0
PRODID:-//hacksw/handcal//NONSGML v1.0//EN
CALSCALE:GREGORIAN
BEGIN:VEVENT
DTEND:20190209T040000Z
UID: 69e8a6d9ba566
DTSTAMP:20260422T054545Z
LOCATION:Olin Center for Educational Technology
DESCRIPTION:The Office of Student Life will present the 2018 romantic drama "A Star is Born\," with Bradley Cooper and Lady Gaga.\n\nThe&nbsp\;remake of the 1937 film&nbsp\;follows a hard-drinking musician (Cooper) who discovers and falls in love with a young singer (Gaga). It is the fourth remake of the original&nbsp\; film.\n
URL;VALUE=URI:https://augustana.edu/about-us/events/2019/osl-movies-star-born3
SUMMARY:OSL Movies: "A Star is Born"
DTSTART:20190209T040000Z
END:VEVENT
END:VCALENDAR
