BEGIN:VCALENDAR
VERSION:2.0
PRODID:-//hacksw/handcal//NONSGML v1.0//EN
CALSCALE:GREGORIAN
BEGIN:VEVENT
DTEND:20190206T230000Z
UID: 69e74eed98f3a
DTSTAMP:20260421T051821Z
LOCATION:Old Main 
DESCRIPTION:All are invited to join Spanish Club in learning how to dance to traditional Latin American music\n
URL;VALUE=URI:https://augustana.edu/about-us/events/2019/le-noche-de-baile
SUMMARY:Le Noche de Baile
DTSTART:20190206T230000Z
END:VEVENT
END:VCALENDAR
