BEGIN:VCALENDAR
VERSION:2.0
PRODID:-//hacksw/handcal//NONSGML v1.0//EN
CALSCALE:GREGORIAN
BEGIN:VEVENT
DTEND:20190203T190000Z
UID: 69eadc4465bbd
DTSTAMP:20260423T215812Z
LOCATION:Thorson-Lucken Field
DESCRIPTION:The women's lacrosse team will go against Albion College in the first home game of the season.\n
URL;VALUE=URI:https://augustana.edu/about-us/events/2019/womens-lacrosse-vs-albion
SUMMARY:Women's lacrosse vs. Albion
DTSTART:20190203T190000Z
END:VEVENT
END:VCALENDAR
