BEGIN:VCALENDAR
VERSION:2.0
PRODID:-//hacksw/handcal//NONSGML v1.0//EN
CALSCALE:GREGORIAN
BEGIN:VEVENT
DTEND:20190308T180000Z
UID: 69ead95894cdd
DTSTAMP:20260423T214544Z
LOCATION:Thorson-Lucken Field
DESCRIPTION:The women's lacrosse team will&nbsp\;play Wittenberg University in the Vikings' first home game of the season.\n\nThe Vikings won 13-10 vs. Hendrix on Feb. 24 and lost 10-22 to Southwestern Texas Feb. 27.\n
URL;VALUE=URI:https://augustana.edu/about-us/events/2019/womens-lacrosse-vs-wittenberg
SUMMARY:Women's lacrosse vs. Wittenberg
DTSTART:20190308T180000Z
END:VEVENT
END:VCALENDAR
