BEGIN:VCALENDAR
VERSION:2.0
PRODID:-//hacksw/handcal//NONSGML v1.0//EN
CALSCALE:GREGORIAN
BEGIN:VEVENT
DTEND:20190328T213000Z
UID: 69e67dff055b5
DTSTAMP:20260420T142655Z
LOCATION:Hanson Hall of Science
DESCRIPTION:This lecture will explore how artworks and symbols from classical antiquity have been appropriated and misused by hate groups in the modern world.\n
URL;VALUE=URI:https://augustana.edu/about-us/events/2019/sarah-bond-signs-times-ancient-symbols-reused-hate-groups
SUMMARY:Sarah Bond — "Signs of the Times: Ancient Symbols Reused by Hate Groups"
DTSTART:20190328T213000Z
END:VEVENT
END:VCALENDAR
