BEGIN:VCALENDAR
VERSION:2.0
PRODID:-//hacksw/handcal//NONSGML v1.0//EN
CALSCALE:GREGORIAN
BEGIN:VEVENT
DTEND:20190220T010000Z
UID: 69e67c8517ba4
DTSTAMP:20260420T142037Z
LOCATION:Carver P.E. Center
DESCRIPTION:The Augustana women's basketball team will host North Park in the first round of the College Conference of Illinois &amp\; Wisconsin women's basketball tournament.\n\nThe winner will advance to the semifinals in Wheaton Friday. The conference tournament championship game is scheduled for 7&nbsp\;p.m. Saturday\, also at Wheaton.\n\nAugustana is 14-11 overall and 8-8 in the CCIW. Fans can watch a live stream of tonight's game.\n\nAugustana closed out the 2018-19 regular season last&nbsp\;&nbsp\;Saturday with a 61-55 win at Carthage. The victory ensured the program’s third consecutive winning season for the first time since 2001-04.&nbsp\;\n\nTuesday’s game will mark Augustana’s third appearance in the CCIW Tournament. The Vikings fell to Illinois Wesleyan in 2003 and to Wheaton in 2017 and will be seeking their first postseason win since a 54-52 victory over Washington University in the 1990 NCAA North Regional consolation game.\n&nbsp\;\n
URL;VALUE=URI:https://augustana.edu/about-us/events/2019/cciw-womens-basketball-tournament
SUMMARY:CCIW Women's Basketball Tournament
DTSTART:20190220T010000Z
END:VEVENT
END:VCALENDAR
