BEGIN:VCALENDAR
VERSION:2.0
PRODID:-//hacksw/handcal//NONSGML v1.0//EN
CALSCALE:GREGORIAN
BEGIN:VEVENT
DTEND:20190222T230000Z
UID: 69e67b33e52aa
DTSTAMP:20260420T141459Z
LOCATION:Carver P.E. Center
DESCRIPTION:The Augustana men’s basketball team will host the College Conference of Illinois &amp\; Wisconsin Tournament Friday and Saturday.\n\nThe first game tonight&nbsp\;will be North Central vs. Wheaton at 5&nbsp\;p.m.\, followed by Augustana vs. Illinois Wesleyan at 7&nbsp\;p.m. (Live stream)\n\nThe winners will meet in the championship game at 7 p.m. Saturday at Carver Center.\n\nAugustana's Coach Grey Giovanine’s teams &nbsp\;have won 10 CCIW championships and six CCIW tournament championships in his time at Augustana. The Vikings have never missed a CCIW tournament\, dating back to the inaugural CCIW tournament in the 2005-06 season.\n&nbsp\;\nTickets are $8 for adults\, $4 for seniors aged 60 and up\, $4 for students and children aged 6-18\, and free for children 5 and under and students of CCIW schools.\n\nTickets will go on sale Friday beginning at 3:30 p.m. Friday and at 5:30 p.m. Saturday. There will be no pre-sale tickets and all seats are general admission.\n
URL;VALUE=URI:https://augustana.edu/about-us/events/2019/cciw-mens-basketball-tournament
SUMMARY:CCIW Men's Basketball Tournament 
DTSTART:20190222T230000Z
END:VEVENT
END:VCALENDAR
