BEGIN:VCALENDAR
VERSION:2.0
PRODID:-//hacksw/handcal//NONSGML v1.0//EN
CALSCALE:GREGORIAN
BEGIN:VEVENT
DTEND:20190224T010000Z
UID: 69e67e245e3f5
DTSTAMP:20260420T142732Z
LOCATION:Carver P.E. Center
DESCRIPTION:Augustana outscored Illinois Wesleyan Friday in the semifinals of the CCIW Tournament. The Vikings advance&nbsp\;to tonight's&nbsp\; championship game against North Central.\n\nTickets will go on sale Friday beginning at 5:30 p.m. There will be no pre-sale tickets and all seats are general admission.\n
URL;VALUE=URI:https://augustana.edu/about-us/events/2019/cciw-mens-basketball-tournament-0
SUMMARY:CCIW Men's Basketball Tournament
DTSTART:20190224T010000Z
END:VEVENT
END:VCALENDAR
