BEGIN:VCALENDAR
VERSION:2.0
PRODID:-//hacksw/handcal//NONSGML v1.0//EN
CALSCALE:GREGORIAN
BEGIN:VEVENT
DTEND:20190308T233000Z
UID: 69e67dfef04b4
DTSTAMP:20260420T142654Z
LOCATION:Carver P.E. Center
DESCRIPTION:Augustana will host the NCAA Division III Men's Basketball Tournament third and fourth rounds tonight and Saturday.\n\nAugustana\, 26-3 on the year\, will play Wheaton (21-8) at 7:30 p.m.\n\nMarietta (22-6) and Oswego State (24-5) will play the first game at 5:30 p.m.\n\nWinners will meet at 7 p.m. on Saturday for the sectional title and a trip to the final four in Fort Wayne\, Ind.\n\nTickets will go on sale at 4 p.m. Friday and at 5:30 p.m. on Saturday. There are no complimentary passes for NCAA Tournament games.\n
URL;VALUE=URI:https://augustana.edu/about-us/events/2019/ncaa-division-iii-mens-basketball-tournament
SUMMARY:NCAA Division III Men's Basketball Tournament
DTSTART:20190308T233000Z
END:VEVENT
END:VCALENDAR
