BEGIN:VCALENDAR
VERSION:2.0
PRODID:-//hacksw/handcal//NONSGML v1.0//EN
CALSCALE:GREGORIAN
BEGIN:VEVENT
DTEND:20190326T133000Z
UID: 69e67dbc98006
DTSTAMP:20260420T142548Z
LOCATION:The Gerber Center for Student Life
DESCRIPTION:High school sophomores and juniors are invited to spend some time on campus at&nbsp\;Spring Preview Days.\n\nLearn about distinctions and opportunities at Augustana through sample classes\, a tour of campus\, a presentation about the value of an Augustana education and our specific application process. You also may sign up for an admissions interview.\n\nYou may choose a session with our student panel on finding your college fit\, or to find out how we help you find a career path.\n\nCheck out a sample class.\n\nhttps://www.augustana.edu/admissions/visit/spring-preview/lectures\n\nOther spring preview days will happen on March 28 and April 5.\n
URL;VALUE=URI:https://augustana.edu/about-us/events/2019/spring-preview-day
SUMMARY:Spring Preview Day
DTSTART:20190326T133000Z
END:VEVENT
END:VCALENDAR
