BEGIN:VCALENDAR
VERSION:2.0
PRODID:-//hacksw/handcal//NONSGML v1.0//EN
CALSCALE:GREGORIAN
BEGIN:VEVENT
DTEND:20190327T233000Z
UID: 69ec1766c9dd5
DTSTAMP:20260424T202246Z
LOCATION:Davenport Public Library
DESCRIPTION:Dr. Jennifer Burnham\, associate professor of geography at Augustana\, will be one of the speakers at Corn\, Climate and Conservation: Iowa's Clean Energy Forum.\n\nThe event is sponsored by Mighty Earth Quad-Cities\, a nonprofit that works to protect the environment\, threatened landscapes\, and oceans.\n\nThe panel&nbsp\; will discuss agriculture's place in a clean energy future as well as some of the ways Iowa already leads the nation in moving towards renewables. The group will discuss sustainable farm practices\, balancing\nagricultural practices with preservation of wild lands\, the role of food-based biofuels\, and more.\n
URL;VALUE=URI:https://augustana.edu/about-us/events/2019/corn-climate-and-conservation-iowas-clean-energy-forum
SUMMARY:Corn\, Climate and Conservation: Iowa's Clean Energy Forum
DTSTART:20190327T233000Z
END:VEVENT
END:VCALENDAR
