BEGIN:VCALENDAR
VERSION:2.0
PRODID:-//hacksw/handcal//NONSGML v1.0//EN
CALSCALE:GREGORIAN
BEGIN:VEVENT
DTEND:20190413T220000Z
UID: 69ec172c921ba
DTSTAMP:20260424T202148Z
LOCATION:The Gerber Center for Student Life
DESCRIPTION:The African Students Association invites all students to their annual event\, AfroFest. Students can learn more about African culture while enjoying dance performances\, poetry\, authentic African cuisine\, and more.\n\nStudents interested in attending should RSVP.\n
URL;VALUE=URI:https://augustana.edu/about-us/events/2019/afrofest
SUMMARY:AfroFest
DTSTART:20190413T220000Z
END:VEVENT
END:VCALENDAR
