BEGIN:VCALENDAR
VERSION:2.0
PRODID:-//hacksw/handcal//NONSGML v1.0//EN
CALSCALE:GREGORIAN
BEGIN:VEVENT
DTEND:20190406T000000Z
UID: 69e7ad5aba54f
DTSTAMP:20260421T120114Z
LOCATION:Olin Center for Educational Technology
DESCRIPTION:The Office of Student Life invites all students to see a screening of "Instant Family". There will be a repeat screening at 10 p.m.\n
URL;VALUE=URI:https://augustana.edu/about-us/events/2019/movie-night-instant-family-0
SUMMARY:Movie night — Instant Family
DTSTART:20190406T000000Z
END:VEVENT
END:VCALENDAR
