BEGIN:VCALENDAR
VERSION:2.0
PRODID:-//hacksw/handcal//NONSGML v1.0//EN
CALSCALE:GREGORIAN
BEGIN:VEVENT
DTEND:20190414T170000Z
UID: 69eb8fa612a62
DTSTAMP:20260424T104334Z
LOCATION:Olin Center for Educational Technology
DESCRIPTION:The Office of Student Life movie committee invites students to a Disney movie marathon. The lineup includes three classics\, "Tangled"\, "Up"\, and "Mary Poppins"\, and will end with the new release "Wreck it Ralph: Ralph Breaks the Internet". Jimmy Johns will be provided at 6:30 p.m.\n
URL;VALUE=URI:https://augustana.edu/about-us/events/2019/disney-movie-marathon
SUMMARY:Disney movie marathon
DTSTART:20190414T170000Z
END:VEVENT
END:VCALENDAR
