BEGIN:VCALENDAR
VERSION:2.0
PRODID:-//hacksw/handcal//NONSGML v1.0//EN
CALSCALE:GREGORIAN
BEGIN:VEVENT
DTEND:20220506T000000Z
UID: 69eb935058e47
DTSTAMP:20260424T105912Z
LOCATION:Centennial Hall
DESCRIPTION:Seniors are invited to the annual Last Lecture and Senior Toast. Three of the most influential professors\, chosen by the senior class\, will offer a few words of wisdom and inspiration before graduation.&nbsp\;\n\nPresident Steve Bahls will offer a champagne toast\, and each senior who attends will receive a commemorative champagne flute.&nbsp\;\n\nThe names of the professors chosen will be revealed on the night of the Last Lecture.\n\nSeniors will need to provide an ID upon arrival in order to receive champagne. Sparkling grape juice also will be available.\n\nDoors open at 6 p.m. and the program will begin at 7.\n
URL;VALUE=URI:https://augustana.edu/about-us/events/2022/last-lecture-and-senior-toast
SUMMARY:Last Lecture and Senior Toast
DTSTART:20220506T000000Z
END:VEVENT
END:VCALENDAR
