BEGIN:VCALENDAR
VERSION:2.0
PRODID:-//hacksw/handcal//NONSGML v1.0//EN
CALSCALE:GREGORIAN
BEGIN:VEVENT
DTEND:20190411T213000Z
UID: 69e8b0cfd88b3
DTSTAMP:20260422T062815Z
LOCATION:Olin Center for Educational Technology
DESCRIPTION:Award-winning documentary filmmakers Kelly and Tammy Rundle of FourthWall Films will discuss&nbsp\;their work with six indigenous tribes over the last decade to produce films about their past and ongoing presence.\n\nTheir collaborations have resulted in the three-part series "Lost Nation: The Ioway\," and the Emmy-nominated film "Good Earth: Awakening the Silent City."\n\nThey will show clips of their films\, discuss the importance of telling little-known stories\, and describe the challenges and rewards of working with indigenous groups to produce culturally sensitive and accurate representations.\n\nTheir visit is sponsored by the Institute for Leadership and Service and the Departments of history\, English\, geography\, and sociology and anthropology.&nbsp\;\n
URL;VALUE=URI:https://augustana.edu/about-us/events/2019/filming-indian-country-responsible-representations
SUMMARY:Filming Indian Country: Responsible Representations
DTSTART:20190411T213000Z
END:VEVENT
END:VCALENDAR
