BEGIN:VCALENDAR
VERSION:2.0
PRODID:-//hacksw/handcal//NONSGML v1.0//EN
CALSCALE:GREGORIAN
BEGIN:VEVENT
DTEND:20190413T020000Z
UID: 69e76475c67eb
DTSTAMP:20260421T065013Z
LOCATION:Ascension Chapel
DESCRIPTION:The Augustana community is invited to an outdoor Christian concert featuring Lee Roessler and Joe Heim. Food will be available at 8:30 p.m. and the concert begins at 9 p.m.&nbsp\;\n\n&nbsp\;\n
URL;VALUE=URI:https://augustana.edu/about-us/events/2019/lees-roessler-and-joe-heim-concert
SUMMARY:Lees Roessler and Joe Heim concert
DTSTART:20190413T020000Z
END:VEVENT
END:VCALENDAR
