BEGIN:VCALENDAR
VERSION:2.0
PRODID:-//hacksw/handcal//NONSGML v1.0//EN
CALSCALE:GREGORIAN
BEGIN:VEVENT
DTEND:20190414T200000Z
UID: 69e5f6418061e
DTSTAMP:20260420T044745Z
LOCATION:Lower Quad
DESCRIPTION:Augustana faculty and their children are invited to an Easter egg hunt hosted by the Black Student Union.\n\nAugustana students are welcome to volunteer and help for set up and clean up\, as well as helping during the event. Set up starts at 1:30 p.m.\n
URL;VALUE=URI:https://augustana.edu/about-us/events/2019/bsu-easter-egg-hunt
SUMMARY:BSU Easter egg hunt
DTSTART:20190414T200000Z
END:VEVENT
END:VCALENDAR
