BEGIN:VCALENDAR
VERSION:2.0
PRODID:-//hacksw/handcal//NONSGML v1.0//EN
CALSCALE:GREGORIAN
BEGIN:VEVENT
DTEND:20190420T130000Z
UID: 69e5f617052af
DTSTAMP:20260420T044703Z
LOCATION:
DESCRIPTION:Students are invited by Car club to attend Le Claire Cars &amp\; Coffee\, a car show showcasing the large variety of cars in the Quad Cities.\n\nThere will be a carpool at 7 a.m. in the Centennial parking lot.&nbsp\;\n
URL;VALUE=URI:https://augustana.edu/about-us/events/2019/car-club-cars-and-coffee
SUMMARY:Car club — Cars and Coffee
DTSTART:20190420T130000Z
END:VEVENT
END:VCALENDAR
