BEGIN:VCALENDAR
VERSION:2.0
PRODID:-//hacksw/handcal//NONSGML v1.0//EN
CALSCALE:GREGORIAN
BEGIN:VEVENT
DTEND:20190412T170000Z
UID: 69e5f641806ec
DTSTAMP:20260420T044745Z
LOCATION:Augustana Center for Visual Culture
DESCRIPTION:The 2019 Senior Art Exhibition opens today\,&nbsp\;featuring the Senior Inquiry projects of the Class of 2019 graphic design and studio art majors.\n\nHours are noon-4 p.m. Fridays and Saturdays.\n\nA closing reception will be held from 11:45 a.m.-1 p.m May 19.\n
URL;VALUE=URI:https://augustana.edu/about-us/events/2019/senior-art-exhibition-opening
SUMMARY:Senior Art Exhibition opening
DTSTART:20190412T170000Z
END:VEVENT
END:VCALENDAR
