BEGIN:VCALENDAR
VERSION:2.0
PRODID:-//hacksw/handcal//NONSGML v1.0//EN
CALSCALE:GREGORIAN
BEGIN:VEVENT
DTEND:20190424T213000Z
UID: 69e6103c33116
DTSTAMP:20260420T063836Z
LOCATION:Wilson Center
DESCRIPTION:Students are invited to a discussion about incarceration reform with the Rev. Dominique&nbsp\;Gilliard. He will speak about his book "Rethinking Incarceration" (2018).&nbsp\;\n\nHe is director of racial righteousness and reconciliation for the Evangelical Covenant Church.&nbsp\;He serves on the boards of directors for the Christian Community Development Association and Evangelicals for Justice\, and was identified by&nbsp\;Huffington Post&nbsp\;as one of the “Black Christian Leaders Changing the World.”\n\nThere will be an additional discussion on April 25 with Dr. Michelle Clifton-Soderstrom where she will&nbsp\; give&nbsp\;talk on "Resisting Incarceration Through Education".\n
URL;VALUE=URI:https://augustana.edu/about-us/events/2019/rethinking-incarceration-advocating-justice-restores
SUMMARY:"Rethinking Incarceration: Advocating for Justice That Restores"
DTSTART:20190424T213000Z
END:VEVENT
END:VCALENDAR
