BEGIN:VCALENDAR
VERSION:2.0
PRODID:-//hacksw/handcal//NONSGML v1.0//EN
CALSCALE:GREGORIAN
BEGIN:VEVENT
DTEND:20190425T213000Z
UID: 69eb0d68dc021
DTSTAMP:20260424T012752Z
LOCATION:Hanson Hall of Science
DESCRIPTION:Students are invited to a discussion about incarceration reform with Dr. Michelle Clifton-Soderstrom. Dr. Clifton-Soderstrom will be speaking about her work teaching at Stateville Correctional Facility outside of Chicago\, where she is Professor of Theology and Ethics at North Park Theological Seminary.&nbsp\;You can read about her work in&nbsp\;Sojourners\,&nbsp\;"Resisting Incarceration Through Education\," and in the&nbsp\;Covenant Companion\, "Letters from Stateville."&nbsp\;\n
URL;VALUE=URI:https://augustana.edu/about-us/events/2019/incarceration-reform-resisting-incarceration-through-education
SUMMARY:Incarceration reform: "Resisting Incarceration Through Education"
DTSTART:20190425T213000Z
END:VEVENT
END:VCALENDAR
