BEGIN:VCALENDAR
VERSION:2.0
PRODID:-//hacksw/handcal//NONSGML v1.0//EN
CALSCALE:GREGORIAN
BEGIN:VEVENT
DTEND:20190413T200000Z
UID: 69eb0d7038fa6
DTSTAMP:20260424T012800Z
LOCATION:Old Main 
DESCRIPTION:Students are invited to the first K-Pop Club meeting. All are welcome to participate in fun activities and free pizza will be provided.\n
URL;VALUE=URI:https://augustana.edu/about-us/events/2019/k-pop-club-meeting
SUMMARY:K-Pop Club meeting
DTSTART:20190413T200000Z
END:VEVENT
END:VCALENDAR
