BEGIN:VCALENDAR
VERSION:2.0
PRODID:-//hacksw/handcal//NONSGML v1.0//EN
CALSCALE:GREGORIAN
BEGIN:VEVENT
DTEND:20190608T010000Z
UID: 69e5f2df45620
DTSTAMP:20260420T043319Z
LOCATION:Lincoln Park
DESCRIPTION:Genesius Guild will present Ballet Under the Stars at 8 p.m. June 7\, 8 and 9.\n\nBallet Quad Cities' annual gift to the community\, "Ballet Under the Stars" is an evening of dance with guest artists from the community.\n&nbsp\;\n
URL;VALUE=URI:https://augustana.edu/about-us/events/2019/ballet-under-stars
SUMMARY:Ballet Under the Stars
DTSTART:20190608T010000Z
END:VEVENT
END:VCALENDAR
