BEGIN:VCALENDAR
VERSION:2.0
PRODID:-//hacksw/handcal//NONSGML v1.0//EN
CALSCALE:GREGORIAN
BEGIN:VEVENT
DTEND:20191024T210000Z
UID: 69e69a8401fd5
DTSTAMP:20260420T162836Z
LOCATION:Olin Center for Educational Technology
DESCRIPTION:This 76-minute film is about Jewish survivors arriving from the concentration camps in Malmö\, Sweden after the war. Original footage is combined with narration from the survivors themselves. Watch the film trailer.\n\nThis event is in conjunction with the symposium "Dealing with the Past in the Present: Swedish Experiences of World War II and the Holocaust" on Oct. 26.\n
URL;VALUE=URI:https://augustana.edu/about-us/events/2019/harbour-hope-film-screening
SUMMARY:Harbour of Hope film screening
DTSTART:20191024T210000Z
END:VEVENT
END:VCALENDAR
