BEGIN:VCALENDAR
VERSION:2.0
PRODID:-//hacksw/handcal//NONSGML v1.0//EN
CALSCALE:GREGORIAN
BEGIN:VEVENT
DTEND:20191026T170000Z
UID: 69e67850b83af
DTSTAMP:20260420T140240Z
LOCATION:German American Heritage Center
DESCRIPTION:The Swenson Swedish Immigration Research Center at Augustana will join&nbsp\;libraries\, archives&nbsp\;and museums from around the area&nbsp\;at the Quad Cities Archives Fair.\n\nThe fair brings together institutions to showcase&nbsp\;local history collections and stories. Visitors can learn about these organizations\, enter to win historical door prizes\,&nbsp\;and hear talks from local historians. The fair runs from noon-4 p.m.\n
URL;VALUE=URI:https://augustana.edu/about-us/events/2019/quad-cities-archives-fair
SUMMARY:Quad Cities Archives Fair
DTSTART:20191026T170000Z
END:VEVENT
END:VCALENDAR
