BEGIN:VCALENDAR
VERSION:2.0
PRODID:-//hacksw/handcal//NONSGML v1.0//EN
CALSCALE:GREGORIAN
BEGIN:VEVENT
DTEND:20190905T193000Z
UID: 69ea72c8d7b64
DTSTAMP:20260423T142808Z
LOCATION:The Gerber Center for Student Life
DESCRIPTION:Meet the Learning Commons faculty and staff\, including the newest additions:&nbsp\;Kam Williams\, director of Disability Services\, and&nbsp\;Susie Méndez\, Reading/Writer Center visiting faculty tutor.\n\nRefreshments will be served. The open house runs from 2:30-4 p.m.\n
URL;VALUE=URI:https://augustana.edu/about-us/events/2019/learning-commons-open-house
SUMMARY:Learning Commons open house
DTSTART:20190905T193000Z
END:VEVENT
END:VCALENDAR
