BEGIN:VCALENDAR
VERSION:2.0
PRODID:-//hacksw/handcal//NONSGML v1.0//EN
CALSCALE:GREGORIAN
BEGIN:VEVENT
DTEND:20190906T150000Z
UID: 69ea726619c6d
DTSTAMP:20260423T142630Z
LOCATION:Lower Quad
DESCRIPTION:The Office of Student Inclusion and Diversity will hold the first of its Final Fridays. Today's event is the kickoff of the&nbsp\; #InclusiveAugie campaign.\n\nEvent runs from 10 a.m.-2 p.m.\n
URL;VALUE=URI:https://augustana.edu/about-us/events/2019/inclusiveaugustana-campaign-kickoff
SUMMARY:#InclusiveAugustana campaign kickoff 
DTSTART:20190906T150000Z
END:VEVENT
END:VCALENDAR
