BEGIN:VCALENDAR
VERSION:2.0
PRODID:-//hacksw/handcal//NONSGML v1.0//EN
CALSCALE:GREGORIAN
BEGIN:VEVENT
DTEND:20191024T000000Z
UID: 69e6789086ecb
DTSTAMP:20260420T140344Z
LOCATION:Carver P.E. Center
DESCRIPTION:The women's volleyball team will play against Carthage College at home as a CCIW match.\n
URL;VALUE=URI:https://augustana.edu/about-us/events/2019/womens-volleyball-vs-carthage-0
SUMMARY:Women's volleyball vs. Carthage
DTSTART:20191024T000000Z
END:VEVENT
END:VCALENDAR
