BEGIN:VCALENDAR
VERSION:2.0
PRODID:-//hacksw/handcal//NONSGML v1.0//EN
CALSCALE:GREGORIAN
BEGIN:VEVENT
DTEND:20191102T190000Z
UID: 69e678d9692df
DTSTAMP:20260420T140457Z
LOCATION:Carver P.E. Center
DESCRIPTION:The women's volleyball team will play against Monmouth College at home.\n
URL;VALUE=URI:https://augustana.edu/about-us/events/2019/womens-volleyball-vs-monmouth
SUMMARY:Women's volleyball vs. Monmouth
DTSTART:20191102T190000Z
END:VEVENT
END:VCALENDAR
