BEGIN:VCALENDAR
VERSION:2.0
PRODID:-//hacksw/handcal//NONSGML v1.0//EN
CALSCALE:GREGORIAN
BEGIN:VEVENT
DTEND:20190930T000000Z
UID: 69eb47708fffd
DTSTAMP:20260424T053528Z
LOCATION:Westerlin Residence Center
DESCRIPTION:Students are invited to a Sunday workshop from the Reading Writing Center. This Sunday's workshop is focused on active reading techniques.\n
URL;VALUE=URI:https://augustana.edu/about-us/events/2019/readingwriting-center-sunday-workshop-active-reading-techniques
SUMMARY:Reading/Writing Center Sunday Workshop: Active Reading Techniques
DTSTART:20190930T000000Z
END:VEVENT
END:VCALENDAR
