BEGIN:VCALENDAR
VERSION:2.0
PRODID:-//hacksw/handcal//NONSGML v1.0//EN
CALSCALE:GREGORIAN
BEGIN:VEVENT
DTEND:20191028T000000Z
UID: 69eb47708621e
DTSTAMP:20260424T053528Z
LOCATION:Westerlin Residence Center
DESCRIPTION:Students are invited to a Sunday workshop from the Reading Writing Center. This Sunday's workshop is focused on pre-writing (brainstorming\, planning\, and preparing to write).\n\nFree pizza.\n
URL;VALUE=URI:https://augustana.edu/about-us/events/2019/readingwriting-center-sunday-workshop-pre-writing
SUMMARY:Reading/Writing Center Sunday Workshop:  Pre-Writing
DTSTART:20191028T000000Z
END:VEVENT
END:VCALENDAR
