BEGIN:VCALENDAR
VERSION:2.0
PRODID:-//hacksw/handcal//NONSGML v1.0//EN
CALSCALE:GREGORIAN
BEGIN:VEVENT
DTEND:20190926T213000Z
UID: 69e825bdd7d0c
DTSTAMP:20260421T203453Z
LOCATION:Hanson Hall of Science
DESCRIPTION:The Japan Exchange and Teaching Program is a competitive employment opportunity that allows young professionals to live and work in cities\, towns\, and villages throughout Japan. Being a JET is an opportunity to work and to represent the United States as cultural ambassadors to Japan.\n\nMost participants serve as assistant language teachers (ALTs) and work in public and private schools throughout Japan.\n\nAn informational program about JET will be held for those students interested in teaching English in Japan for one or two years after graduation.\n
URL;VALUE=URI:https://augustana.edu/about-us/events/2019/japan-exchange-program-info-session
SUMMARY:Japan Exchange Program info session
DTSTART:20190926T213000Z
END:VEVENT
END:VCALENDAR
