BEGIN:VCALENDAR
VERSION:2.0
PRODID:-//hacksw/handcal//NONSGML v1.0//EN
CALSCALE:GREGORIAN
BEGIN:VEVENT
DTEND:20200229T223000Z
UID: 69ea634c0ebfe
DTSTAMP:20260423T132204Z
LOCATION:Denkmann Memorial Building
DESCRIPTION:The Augustana Clarinet Studio will present its sixth annual&nbsp\;Clarinets for Conservation recital to benefit the&nbsp\;Daraja Music Initiative.\n\nThis organization is concerned with the preservation of the mpingo tree\, which provides the wood from which clarinets are made\, and promotes sustainability through music education in Tanzania\, where the tree grows.\n\nMusicians in the recital will include Augustana students and members of the community\, performing as soloists\, chamber musicians\, and in a massed clarinet choir.&nbsp\;\n\nA free will donation will be collected\, with proceeds going to the Daraja Music Initiative.\n
URL;VALUE=URI:https://augustana.edu/about-us/events/2020/clarinets-conservation
SUMMARY:Clarinets for Conservation
DTSTART:20200229T223000Z
END:VEVENT
END:VCALENDAR
