BEGIN:VCALENDAR
VERSION:2.0
PRODID:-//hacksw/handcal//NONSGML v1.0//EN
CALSCALE:GREGORIAN
BEGIN:VEVENT
DTEND:20221016T210000Z
UID: 69e81490b0f2f
DTSTAMP:20260421T192136Z
LOCATION:
DESCRIPTION:Robert Elfline\, professor of piano\, and Deborah Dakin\, assistant professor of viola will perform a short and informal recital comprised of a variety of favorite short pieces. Come in relaxed attire and enjoy some live music at Augustana together.&nbsp\;\n\n&nbsp\;\n\n&nbsp\;\n
URL;VALUE=URI:https://augustana.edu/about-us/events/2022/dakin-elfline
SUMMARY:Faculty recital: Deborah Dakin\, viola\, and Robert Elfline\, piano
DTSTART:20221016T210000Z
END:VEVENT
END:VCALENDAR
